BEGIN:VCALENDAR
VERSION:2.0
PRODID:-//Inner Wheel Australia - ECPv4.6.11.1//NONSGML v1.0//EN
CALSCALE:GREGORIAN
METHOD:PUBLISH
X-WR-CALNAME:Inner Wheel Australia
X-ORIGINAL-URL:http://innerwheelaustralia.org.au
X-WR-CALDESC:Events for Inner Wheel Australia
BEGIN:VEVENT
DTSTART;VALUE=DATE:20180411
DTEND;VALUE=DATE:20180415
DTSTAMP:20180226T071411
CREATED:20161008T041244Z
LAST-MODIFIED:20161019T061944Z
UID:1774-1523404800-1523750399@innerwheelaustralia.org.au
SUMMARY:IIW Convention 2018
DESCRIPTION:The 2018 IIW Convention will be held in Melbourne\, Australia\, 11-14 April 2018 \nIIW Convention 2018 \nOfficial IIW Convention 2018 Website \n
URL:http://innerwheelaustralia.org.au/event/iiw-convention-2018
END:VEVENT
BEGIN:VEVENT
DTSTART;VALUE=DATE:20180427
DTEND;VALUE=DATE:20180428
DTSTAMP:20180226T071411
CREATED:20150616T065224Z
LAST-MODIFIED:20170926T091241Z
UID:260-1524787200-1524873599@innerwheelaustralia.org.au
SUMMARY:National 'Coin for a Cord' Day 2018
DESCRIPTION:Inner Wheel Australia \nIn Support of \nCORD BLOOD RESEARCH\nDonations may be sent to:\nInner Wheel Australia Treasurer\,\nCord Blood Research\n10 Jarick Street\,\nTurvey Park\, NSW.  2650 \n
URL:http://innerwheelaustralia.org.au/event/national-coin-for-a-cord-day-2016
CATEGORIES:Special Days
ATTACH;FMTTYPE=image/jpeg:http://innerwheelaustralia.org.au/wp-content/uploads/2015/06/Coin-for-a-Cord-day-e1438668827624.jpg
END:VEVENT
END:VCALENDAR